BEGIN:VCALENDAR
VERSION:2.0
PRODID:-//hacksw/handcal//NONSGML v1.0//EN
BEGIN:VEVENT
SUMMARY:UNE DEFAITE RAGEANTE
UID:62300acd-c06b-4295-8171-7d7effffcc50
DTSTART:20171021T150000Z
DTEND:20171021T181500Z
LOCATION:Localisation Salle Polyvalente - Bd Jean Vilar 84350 COURTHEZON
CATEGORIES:Sportif
STATUS:
DESCRIPTION:<p>Notre photo : Quentin CHARRET</p>
 
URL;VALUE=URI:https://ping-courthezonnais.sportsregions.fr/evenements/2017/10/21/une-defaite-rageante-998849
END:VEVENT
END:VCALENDAR
