BEGIN:VCALENDAR
VERSION:2.0
PRODID:-//hacksw/handcal//NONSGML v1.0//EN
BEGIN:VEVENT
SUMMARY:SEUL EN TETE
UID:479a135c-fefe-4963-b52e-1d16afa2a61e
DTSTART:20171020T183000Z
DTEND:20171020T214500Z
LOCATION:Localisation Salle Polyvalente - Bd Jean Vilar 84350 COURTHEZON
CATEGORIES:Sportif
STATUS:
DESCRIPTION:<p>Notre photo : Stephane REY capitaine de la D3A</p>
 
URL;VALUE=URI:https://ping-courthezonnais.sportsregions.fr/evenements/2017/10/20/seul-en-tete-998507
END:VEVENT
END:VCALENDAR
