BEGIN:VCALENDAR
VERSION:2.0
PRODID:-//hacksw/handcal//NONSGML v1.0//EN
BEGIN:VEVENT
SUMMARY:AU DESSUS DU LOT
UID:c0c751ca-7874-4378-8500-11757cb6a77c
DTSTART:20171020T183000Z
DTEND:20171020T211500Z
LOCATION:Localisation Salle Polyvalente - Bd Jean Vilar 84350 COURTHEZON
CATEGORIES:Sportif
STATUS:
DESCRIPTION:<p>Notre photo : Ludovic CARTIER capitaine de la PR</p>
 
URL;VALUE=URI:https://ping-courthezonnais.sportsregions.fr/evenements/2017/10/20/au-dessus-du-lot-998503
END:VEVENT
END:VCALENDAR
