BEGIN:VCALENDAR
VERSION:2.0
PRODID:-//hacksw/handcal//NONSGML v1.0//EN
BEGIN:VEVENT
SUMMARY:2EME DEFAITE INQUIETANTE
UID:67f3de21-8b5a-4f6e-87fe-38c717e8349e
DTSTART:20171007T150000Z
DTEND:20171007T180000Z
LOCATION:Localisation Salle Nelson MANDELA - 759 Chemin COLLET REDON 13770 VENELLES
CATEGORIES:Sportif
STATUS:
DESCRIPTION:<p>Notre photo : KONG JONG FOEK Francois coachait par
 GUDAYOL Thomas</p>
 
URL;VALUE=URI:https://ping-courthezonnais.sportsregions.fr/evenements/2017/10/07/2eme-defaite-inquietante-989738
END:VEVENT
END:VCALENDAR
