BEGIN:VCALENDAR
VERSION:2.0
PRODID:-//hacksw/handcal//NONSGML v1.0//EN
BEGIN:VEVENT
SUMMARY:UN DEPLACEMENT NEGATIF
UID:4e132e2c-6441-467e-80e4-4df1fa9f03fb
DTSTART:20171006T180000Z
DTEND:20171006T201500Z
LOCATION:Localisation Avenue de VERDUN 84120 PERTUIS
CATEGORIES:Sportif
STATUS:
DESCRIPTION:<p>Notre photo : BRESSET Frederic</p>
 
URL;VALUE=URI:https://ping-courthezonnais.sportsregions.fr/evenements/2017/10/06/un-deplacement-negatif-989610
END:VEVENT
END:VCALENDAR
