BEGIN:VCALENDAR
VERSION:2.0
PRODID:-//hacksw/handcal//NONSGML v1.0//EN
BEGIN:VEVENT
SUMMARY:FAUX DEPART POUR LA R2
UID:6e241829-db8b-45d5-af92-c59342e7cb4b
DTSTART:20170930T150000Z
DTEND:20170930T180000Z
LOCATION:Localisation Boulevard Jean MOULIN 84300 CAVAILLON
CATEGORIES:Sportif
STATUS:
DESCRIPTION:<p>Notre photo :  l'equipe R2C contre CAVAILLON</p>
 
URL;VALUE=URI:https://ping-courthezonnais.sportsregions.fr/evenements/2017/09/30/faux-depart-pour-la-r2-982936
END:VEVENT
END:VCALENDAR
