BEGIN:VCALENDAR
VERSION:2.0
PRODID:-//hacksw/handcal//NONSGML v1.0//EN
BEGIN:VEVENT
SUMMARY:UNE VICTOIRE BIEN ACCROCHEE
UID:fb7c48bf-d780-45d0-a257-25b7695934d2
DTSTART:20170929T183000Z
DTEND:20170929T214500Z
LOCATION:Localisation Salle Polyvalente - Bd Jean Vilar 84350 COURTHEZON
CATEGORIES:Sportif
STATUS:
DESCRIPTION:<p>Notre photo : l'equipe D2B qui a battu le PPC
 ISLE/SORGUE 3</p>
 
URL;VALUE=URI:https://ping-courthezonnais.sportsregions.fr/evenements/2017/09/29/une-victoire-bien-accrochee-981388
END:VEVENT
END:VCALENDAR
