BEGIN:VCALENDAR
VERSION:2.0
PRODID:-//hacksw/handcal//NONSGML v1.0//EN
BEGIN:VEVENT
SUMMARY:UNE RENCONTRE BIEN ACCROCHEE
UID:f3042b12-8438-4b26-8e83-262e51262697
DTSTART:20170428T183000Z
DTEND:20170428T210000Z
LOCATION:Localisation Salle Polyvalente - Bd Jean Vilar 84350 COURTHEZON
CATEGORIES:Sportif
STATUS:
DESCRIPTION:<p>Notre photo : BRESSET Frederic</p>
 
URL;VALUE=URI:https://ping-courthezonnais.sportsregions.fr/evenements/2017/04/28/une-rencontre-bien-accrochee-921788
END:VEVENT
END:VCALENDAR
