BEGIN:VCALENDAR
VERSION:2.0
PRODID:-//hacksw/handcal//NONSGML v1.0//EN
BEGIN:VEVENT
SUMMARY:EN TOUTE TRANQUILITE
UID:ccc7bf2a-7144-475c-ba35-9e43e5b32e87
DTSTART:20170428T183000Z
DTEND:20170428T213000Z
LOCATION:Localisation Salle Polyvalente - Bd Jean Vilar 84350 COURTHEZON
CATEGORIES:Sportif
STATUS:
DESCRIPTION:<p>Notre photo : CAGNIAC Jeremie</p>
 
URL;VALUE=URI:https://ping-courthezonnais.sportsregions.fr/evenements/2017/04/28/en-toute-tranquilite-921789
END:VEVENT
END:VCALENDAR
