BEGIN:VCALENDAR
VERSION:2.0
PRODID:-//hacksw/handcal//NONSGML v1.0//EN
BEGIN:VEVENT
SUMMARY:TROP SUPERIEUR
UID:6f36ae74-e8a1-47e1-82df-47855e922b9d
DTSTART:20170326T123000Z
DTEND:20170326T140000Z
LOCATION:Localisation Centre Sportif de l'Argelouse - Route de St-Didier 84210 PERNES LES FONTAINES
CATEGORIES:Sportif
STATUS:
DESCRIPTION:<p>Notre photo : MORCHE Clement</p>
 
URL;VALUE=URI:https://ping-courthezonnais.sportsregions.fr/evenements/2017/03/26/trop-superieur-911124
END:VEVENT
END:VCALENDAR
