BEGIN:VCALENDAR
VERSION:2.0
PRODID:-//hacksw/handcal//NONSGML v1.0//EN
BEGIN:VEVENT
SUMMARY:BIEN REPRIS
UID:7227ea00-fc3b-4e4c-9ccd-b6f031a4327c
DTSTART:20170326T083000Z
DTEND:20170326T094500Z
LOCATION:Localisation Centre Sportif de l'Argelouse - Route de St-Didier 84210 PERNES LES FONTAINES
CATEGORIES:Sportif
STATUS:
DESCRIPTION:<p>Notre photo : BOLUSSET Lea</p>
 
URL;VALUE=URI:https://ping-courthezonnais.sportsregions.fr/evenements/2017/03/26/bien-repris-911144
END:VEVENT
END:VCALENDAR
