BEGIN:VCALENDAR
VERSION:2.0
PRODID:-//hacksw/handcal//NONSGML v1.0//EN
BEGIN:VEVENT
SUMMARY:NOUVELLE DEFAITE
UID:8d7638d5-8565-4cf6-af20-b7d5563aba99
DTSTART:20170325T160000Z
DTEND:20170325T183000Z
LOCATION:Localisation Gymnase E.Castel - Avenue Albert COUTON 13290 LES MILLES
CATEGORIES:Sportif
STATUS:
DESCRIPTION:<p>Notre photo : CHARRET Quentin</p>
 
URL;VALUE=URI:https://ping-courthezonnais.sportsregions.fr/evenements/2017/03/25/nouvelle-defaite-910658
END:VEVENT
END:VCALENDAR
