BEGIN:VCALENDAR
VERSION:2.0
PRODID:-//hacksw/handcal//NONSGML v1.0//EN
BEGIN:VEVENT
SUMMARY:LARGE SUCCES A L'EXTERIEUR
UID:2b4bc3e9-bca4-4d95-952c-d24afb29bb8e
DTSTART:20170325T160000Z
DTEND:20170325T184500Z
LOCATION:Localisation Cosec Gerard ELETTI 13150 TARASCON
CATEGORIES:Sportif
STATUS:
DESCRIPTION:<p>Notre photo : WIZA Emmanuel</p>
 
URL;VALUE=URI:https://ping-courthezonnais.sportsregions.fr/evenements/2017/03/25/large-succes-a-lexterieur-910654
END:VEVENT
END:VCALENDAR
