BEGIN:VCALENDAR
VERSION:2.0
PRODID:-//hacksw/handcal//NONSGML v1.0//EN
BEGIN:VEVENT
SUMMARY:TRES BON MATCH NUL
UID:b75cb787-b274-43d5-a6cc-fd5d8e719d3f
DTSTART:20170324T193000Z
DTEND:20170324T221500Z
LOCATION:Localisation Salle Polyvalente - Bd Jean Vilar 84350 COURTHEZON
CATEGORIES:Sportif
STATUS:
DESCRIPTION:<p>Notre photo : ROUSSEL Jean Luc</p>
 
URL;VALUE=URI:https://ping-courthezonnais.sportsregions.fr/evenements/2017/03/24/tres-bon-match-nul-910652
END:VEVENT
END:VCALENDAR
