BEGIN:VCALENDAR
VERSION:2.0
PRODID:-//hacksw/handcal//NONSGML v1.0//EN
BEGIN:VEVENT
SUMMARY:TOMBER PLUS FORT QUE SOI
UID:e204572e-8199-4c78-91be-3bd5d50c98eb
DTSTART:20170324T193000Z
DTEND:20170324T221500Z
LOCATION:Localisation Salle Polyvalente - Bd Jean Vilar 84350 COURTHEZON
CATEGORIES:Sportif
STATUS:
DESCRIPTION:<p>Notre photo : VITTOZ Olivier</p>
 
URL;VALUE=URI:https://ping-courthezonnais.sportsregions.fr/evenements/2017/03/24/tomber-plus-fort-que-soi-910653
END:VEVENT
END:VCALENDAR
