BEGIN:VCALENDAR
VERSION:2.0
PRODID:-//hacksw/handcal//NONSGML v1.0//EN
BEGIN:VEVENT
SUMMARY:LA P.R. SE RESAISSIT
UID:5eca5583-867c-40bf-9aac-f2207013f9ba
DTSTART:20170324T193000Z
DTEND:20170324T221500Z
LOCATION:Localisation Salle Polyvalente - Bd Jean Vilar 84350 COURTHEZON
CATEGORIES:Sportif
STATUS:
DESCRIPTION:<p>Notre photo : BARBAUD Matthieu</p>
 
URL;VALUE=URI:https://ping-courthezonnais.sportsregions.fr/evenements/2017/03/24/la-pr-se-resaissit-910644
END:VEVENT
END:VCALENDAR
