BEGIN:VCALENDAR
VERSION:2.0
PRODID:-//hacksw/handcal//NONSGML v1.0//EN
BEGIN:VEVENT
SUMMARY:TRES BELLE VICTOIRE A L'ARRACHEE
UID:d70137a8-44eb-4b25-9734-aab56d613c1b
DTSTART:20170226T103000Z
DTEND:20170226T120000Z
LOCATION:Localisation Centre Sportif de l'Argelouse - Route de St-Didier 84210 PERNES LES FONTAINES
CATEGORIES:Sportif
STATUS:
DESCRIPTION:<p>Notre photo : Charles SABON</p>
 
URL;VALUE=URI:https://ping-courthezonnais.sportsregions.fr/evenements/2017/02/26/tres-belle-victoire-a-larrachee-897446
END:VEVENT
END:VCALENDAR
