BEGIN:VCALENDAR
VERSION:2.0
PRODID:-//hacksw/handcal//NONSGML v1.0//EN
BEGIN:VEVENT
SUMMARY:TRES BELLE VICTOIRE
UID:eaafabe4-bd6c-4708-b42f-3eaedb33b600
DTSTART:20170226T123000Z
DTEND:20170226T140000Z
LOCATION:Localisation Centre Sportif de l'Argelouse - Route de St-Didier 84210 PERNES LES FONTAINES
CATEGORIES:Sportif
STATUS:
DESCRIPTION:<p>Notre photo : Loui ROULAN</p>
 
URL;VALUE=URI:https://ping-courthezonnais.sportsregions.fr/evenements/2017/02/26/tres-belle-victoire-897447
END:VEVENT
END:VCALENDAR
