BEGIN:VCALENDAR
VERSION:2.0
PRODID:-//hacksw/handcal//NONSGML v1.0//EN
BEGIN:VEVENT
SUMMARY:LES CADETS 2 FORFAIT
UID:a11c7126-c2ef-47b2-a1c7-456d6584c336
DTSTART:20170226T103000Z
DTEND:20170226T120000Z
LOCATION:Localisation Centre Sportif de l'Argelouse - Route de St-Didier 84210 PERNES LES FONTAINES
CATEGORIES:Sportif
STATUS:
DESCRIPTION:<p>Notre photo : l'equipe cadets 2</p>
 
URL;VALUE=URI:https://ping-courthezonnais.sportsregions.fr/evenements/2017/02/26/les-cadets-2-forfait-897458
END:VEVENT
END:VCALENDAR
