BEGIN:VCALENDAR
VERSION:2.0
PRODID:-//hacksw/handcal//NONSGML v1.0//EN
BEGIN:VEVENT
SUMMARY:BELLE VICTOIRE 
UID:7c1e0c27-e2df-46c8-8e53-24f9c839bbba
DTSTART:20170226T123000Z
DTEND:20170226T151500Z
LOCATION:Localisation Centre Sportif de l'Argelouse - Route de St-Didier 84210 PERNES LES FONTAINES
CATEGORIES:Sportif
STATUS:
DESCRIPTION:<p>Notre photo : Clement MORCHE</p>
 
URL;VALUE=URI:https://ping-courthezonnais.sportsregions.fr/evenements/2017/02/26/belle-victoire-897466
END:VEVENT
END:VCALENDAR
