BEGIN:VCALENDAR
VERSION:2.0
PRODID:-//hacksw/handcal//NONSGML v1.0//EN
BEGIN:VEVENT
SUMMARY:LA PN S'ENFONCE UN PEU PLUS
UID:942d6ca4-2656-45ee-9e49-5e5081751c0a
DTSTART:20170225T160000Z
DTEND:20170225T191500Z
LOCATION:Localisation Salle Nelson MANDELA - 759 Chemin COLLET REDON 13770 VENELLES
CATEGORIES:Sportif
STATUS:
DESCRIPTION:<p>Notre photo : TRANS Olivier</p>
 
URL;VALUE=URI:https://ping-courthezonnais.sportsregions.fr/evenements/2017/02/25/la-pn-senfonce-un-peu-plus-896849
END:VEVENT
END:VCALENDAR
