BEGIN:VCALENDAR
VERSION:2.0
PRODID:-//hacksw/handcal//NONSGML v1.0//EN
BEGIN:VEVENT
SUMMARY:UNE BIEN BELLE RACLEE
UID:465225ce-f5a5-4a89-8ff7-1481554f0080
DTSTART:20170224T193000Z
DTEND:20170224T214500Z
LOCATION:Localisation Salle Polyvalente - Bd Jean Vilar 84350 COURTHEZON
CATEGORIES:Sportif
STATUS:
DESCRIPTION:<p>Notre photo  : Louis ROULAN</p>
 
URL;VALUE=URI:https://ping-courthezonnais.sportsregions.fr/evenements/2017/02/24/une-bien-belle-raclee-896518
END:VEVENT
END:VCALENDAR
