BEGIN:VCALENDAR
VERSION:2.0
PRODID:-//hacksw/handcal//NONSGML v1.0//EN
BEGIN:VEVENT
SUMMARY:LA LOGIQUE A ETE RESPECTEE
UID:ea1f4915-6a5a-454e-898c-c102ffe42de8
DTSTART:20170224T193000Z
DTEND:20170224T221500Z
LOCATION:Localisation Salle Polyvalente - Bd Jean Vilar 84350 COURTHEZON
CATEGORIES:Sportif
STATUS:
DESCRIPTION:<p>Notre photo : Jimmy CAJOT</p>
 
URL;VALUE=URI:https://ping-courthezonnais.sportsregions.fr/evenements/2017/02/24/la-logique-a-ete-respectee-896513
END:VEVENT
END:VCALENDAR
