BEGIN:VCALENDAR
VERSION:2.0
PRODID:-//hacksw/handcal//NONSGML v1.0//EN
BEGIN:VEVENT
SUMMARY:DEFAITE EN TOUTE LOGIQUE
UID:6d8d28c8-bc3d-40f3-b2ad-2cb0791e1caf
DTSTART:20170211T160000Z
DTEND:20170211T190000Z
LOCATION:Localisation Halle des Sports - Rue de la Tourrache 83600 FREJUS
CATEGORIES:Sportif
STATUS:
DESCRIPTION:<p>Notre photo : Francois KONG JONG FOEK</p>
 
URL;VALUE=URI:https://ping-courthezonnais.sportsregions.fr/evenements/2017/02/11/defaite-en-toute-logique-891874
END:VEVENT
END:VCALENDAR
