BEGIN:VCALENDAR
VERSION:2.0
PRODID:-//hacksw/handcal//NONSGML v1.0//EN
BEGIN:VEVENT
SUMMARY:SUR LA LANCEE
UID:24ff845a-1e8f-4056-9fd0-595e8b3ddb4c
DTSTART:20170210T193000Z
DTEND:20170210T221500Z
LOCATION:Localisation Complexe Ste Famille - Rue Arthur RIMBAUD 84200 CARPENTRAS
CATEGORIES:Sportif
STATUS:
DESCRIPTION:<p>Notre photo : Stephane REY et Francisco FERRE</p>
 
URL;VALUE=URI:https://ping-courthezonnais.sportsregions.fr/evenements/2017/02/10/sur-la-lancee-891858
END:VEVENT
END:VCALENDAR
