BEGIN:VCALENDAR
VERSION:2.0
PRODID:-//hacksw/handcal//NONSGML v1.0//EN
BEGIN:VEVENT
SUMMARY:LA BELLE PERFORMANCE DE LA PN
UID:290d54e2-9d63-4785-bf42-2419cabac783
DTSTART:20170121T160000Z
DTEND:20170121T184500Z
LOCATION:Localisation Salle Polyvalente - Bd Jean Vilar 84350 COURTHEZON
CATEGORIES:Sportif
STATUS:
DESCRIPTION:<p>Notre photo : Thomas GUDAYOL qui a battu le n°
 758</p>
 
URL;VALUE=URI:https://ping-courthezonnais.sportsregions.fr/evenements/2017/01/21/la-belle-performance-de-la-pn-880540
END:VEVENT
END:VCALENDAR
