BEGIN:VCALENDAR
VERSION:2.0
PRODID:-//hacksw/handcal//NONSGML v1.0//EN
BEGIN:VEVENT
SUMMARY:UNE LOURDE DEFAITE POUR LA D2
UID:51ac2fa2-981f-4282-aa68-d576443e4f87
DTSTART:20170120T193000Z
DTEND:20170120T224500Z
LOCATION:Localisation Salle Polyvalente - Bd Jean Vilar 84350 COURTHEZON
CATEGORIES:Sportif
STATUS:
DESCRIPTION:<p>Notre photo : L'equipe de D2</p>
 
URL;VALUE=URI:https://ping-courthezonnais.sportsregions.fr/evenements/2017/01/20/une-lourde-defaite-pour-la-d2-880335
END:VEVENT
END:VCALENDAR
