BEGIN:VCALENDAR
VERSION:2.0
PRODID:-//hacksw/handcal//NONSGML v1.0//EN
BEGIN:VEVENT
SUMMARY:LA PR MANQUE LA VICTOIRE AU DERNIER SET
UID:796f10f2-d700-448b-9a20-df077d55b316
DTSTART:20170120T193000Z
DTEND:20170120T224500Z
LOCATION:Localisation Salle Polyvalente - Bd Jean Vilar 84350 COURTHEZON
CATEGORIES:Sportif
STATUS:
DESCRIPTION:<p>Notre photo : L'equipe de PR</p>
 
URL;VALUE=URI:https://ping-courthezonnais.sportsregions.fr/evenements/2017/01/20/la-pr-manque-la-victoire-au-dernier-set-880328
END:VEVENT
END:VCALENDAR
