BEGIN:VCALENDAR
VERSION:2.0
PRODID:-//hacksw/handcal//NONSGML v1.0//EN
BEGIN:VEVENT
SUMMARY:LA D3 (B) EN MODE RODAGE
UID:b7eec100-83aa-4ec9-b3c8-fb05ee35391f
DTSTART:20170120T193000Z
DTEND:20170120T224500Z
LOCATION:Localisation Salle Polyvalente - Bd Jean Vilar 84350 COURTHEZON
CATEGORIES:Sportif
STATUS:
DESCRIPTION:<p>Notre photo : L'equipe de D3 (B)</p>
 
URL;VALUE=URI:https://ping-courthezonnais.sportsregions.fr/evenements/2017/01/20/la-d3-b-en-mode-rodage-880339
END:VEVENT
END:VCALENDAR
