BEGIN:VCALENDAR
VERSION:2.0
PRODID:-//hacksw/handcal//NONSGML v1.0//EN
BEGIN:VEVENT
SUMMARY:LA R3 TROP FORTE
UID:f53e16f1-8bd9-4d39-9cdc-168c176fc0a8
DTSTART:20170114T160000Z
DTEND:20170114T190000Z
LOCATION:Localisation Stade Giai Miniet - Avenue Francis RICHARD 04700 ORAISON
CATEGORIES:Sportif
STATUS:
DESCRIPTION:<p>Notre photo : Julien VIEU capitaine de la R3</p>
 
URL;VALUE=URI:https://ping-courthezonnais.sportsregions.fr/evenements/2017/01/14/la-r3-trop-forte-877377
END:VEVENT
END:VCALENDAR
