BEGIN:VCALENDAR
VERSION:2.0
PRODID:-//hacksw/handcal//NONSGML v1.0//EN
BEGIN:VEVENT
SUMMARY:DEFAITE EN TOUTE LOGIQUE
UID:486fb741-5659-49e2-a4b0-e4869811f0f7
DTSTART:20170114T160000Z
DTEND:20170114T181500Z
LOCATION:Localisation Rue Curet Bas 83140 SIX FOURS
CATEGORIES:Sportif
STATUS:
DESCRIPTION:<p>Notre photo : L'equipe de PN et de TOULON/SIX
 FOURS</p>
 
URL;VALUE=URI:https://ping-courthezonnais.sportsregions.fr/evenements/2017/01/14/defaite-en-toute-logique-877375
END:VEVENT
END:VCALENDAR
