BEGIN:VCALENDAR
VERSION:2.0
PRODID:-//hacksw/handcal//NONSGML v1.0//EN
BEGIN:VEVENT
SUMMARY:TROP SUPERIEUR
UID:1402dba1-a447-45a0-b19c-20a025f37d3d
DTSTART:20170108T110000Z
DTEND:20170108T123000Z
LOCATION:Localisation Boulevard Jean MOULIN 84300 CAVAILLON
CATEGORIES:Sportif
STATUS:
DESCRIPTION:<p>Notre photo : Lylian FREJABUE</p>
 
URL;VALUE=URI:https://ping-courthezonnais.sportsregions.fr/evenements/2017/01/08/trop-superieur-874085
END:VEVENT
END:VCALENDAR
