BEGIN:VCALENDAR
VERSION:2.0
PRODID:-//hacksw/handcal//NONSGML v1.0//EN
BEGIN:VEVENT
SUMMARY:SUPERBE VICTOIRE 
UID:baa09cb2-1003-4851-9222-b2cedab87e39
DTSTART:20170108T110000Z
DTEND:20170108T121500Z
LOCATION:Localisation Boulevard Jean MOULIN 84300 CAVAILLON
CATEGORIES:Sportif
STATUS:
DESCRIPTION:<p>Notre photo : Charles SABON</p>
 
URL;VALUE=URI:https://ping-courthezonnais.sportsregions.fr/evenements/2017/01/08/superbe-victoire-874091
END:VEVENT
END:VCALENDAR
