BEGIN:VCALENDAR
VERSION:2.0
PRODID:-//hacksw/handcal//NONSGML v1.0//EN
BEGIN:VEVENT
SUMMARY:PAS DE CHANCE POUR LES BENJAMINS
UID:1afb4115-3daa-4a4e-9554-594ffb81fc18
DTSTART:20170108T080000Z
DTEND:20170108T093000Z
LOCATION:Localisation Boulevard Jean MOULIN 84300 CAVAILLON
CATEGORIES:Sportif
STATUS:
DESCRIPTION:<p>Notre photo : Clement MORCHE</p>
 
URL;VALUE=URI:https://ping-courthezonnais.sportsregions.fr/evenements/2017/01/08/pas-de-chance-pour-les-benjamins-874079
END:VEVENT
END:VCALENDAR
