BEGIN:VCALENDAR
VERSION:2.0
PRODID:-//hacksw/handcal//NONSGML v1.0//EN
BEGIN:VEVENT
SUMMARY:DEFAITE SEVERE
UID:6a0fe073-dae5-48d3-9970-83c2e18d1e10
DTSTART:20170108T123000Z
DTEND:20170108T140000Z
LOCATION:Localisation Boulevard Jean MOULIN 84300 CAVAILLON
CATEGORIES:Sportif
STATUS:
DESCRIPTION:<p>Notre photo : Louis ROULAN</p>
 
URL;VALUE=URI:https://ping-courthezonnais.sportsregions.fr/evenements/2017/01/08/defaite-severe-874101
END:VEVENT
END:VCALENDAR
