BEGIN:VCALENDAR
VERSION:2.0
PRODID:-//hacksw/handcal//NONSGML v1.0//EN
BEGIN:VEVENT
SUMMARY:UNE RENCONTRE TRES SERREE
UID:8e808ac0-69e8-4d5c-8b0e-2841a4ea2c96
DTSTART:20161216T193000Z
DTEND:20161216T224500Z
LOCATION:Localisation Salle Luc VIGNAL - Avenue Elsa Triollet 84000 AVIGNON
CATEGORIES:Sportif
STATUS:
DESCRIPTION:<p>Equipe composee : Frederic BRESSET, Jacques SAURIN,
 Philippe SOSSON, Ghyslain CUTILLAS</p>
 
 <p>Notre photo : Frederic
 BRESSET</p>
 
URL;VALUE=URI:https://ping-courthezonnais.sportsregions.fr/evenements/2016/12/16/une-rencontre-tres-serree-863789
END:VEVENT
END:VCALENDAR
