BEGIN:VCALENDAR
VERSION:2.0
PRODID:-//hacksw/handcal//NONSGML v1.0//EN
BEGIN:VEVENT
SUMMARY:UN NUL GAGNANT
UID:d1b137d7-d556-4dc5-b13f-9a906936a438
DTSTART:20161216T193000Z
DTEND:20161216T224500Z
LOCATION:Localisation Salle Luc VIGNAL - Avenue Elsa Triollet 84000 AVIGNON
CATEGORIES:Sportif
STATUS:
DESCRIPTION:<p>Equipe composee : Francisco FERRE, Jean-Luc ROUSSEL,
 Julien BLANC, Stephane REY</p>
 
 <p>Notre photo : BLANC Julien</p>
 
URL;VALUE=URI:https://ping-courthezonnais.sportsregions.fr/evenements/2016/12/16/un-nul-gagnant-863791
END:VEVENT
END:VCALENDAR
