BEGIN:VCALENDAR
VERSION:2.0
PRODID:-//hacksw/handcal//NONSGML v1.0//EN
BEGIN:VEVENT
SUMMARY:MANQUE DE REALISME
UID:a3277c37-6e32-46f9-8128-545cac69c490
DTSTART:20161216T193000Z
DTEND:20161216T224500Z
LOCATION:Localisation Salle Municipale des Sports - Route de Sorgues 84320 ENTRAIGUES SUR LA SORGUE
CATEGORIES:Sportif
STATUS:
DESCRIPTION:<p>Equipe composee : Christophe CANET, Jeremie CAGNIAC,
 Eric MONTALETANG, Arnaud NOELLE</p>
 
 <p>Notre photo : MONTALETANG
 Eric</p>
 
URL;VALUE=URI:https://ping-courthezonnais.sportsregions.fr/evenements/2016/12/16/manque-de-realisme-863788
END:VEVENT
END:VCALENDAR
