BEGIN:VCALENDAR
VERSION:2.0
PRODID:-//hacksw/handcal//NONSGML v1.0//EN
BEGIN:VEVENT
SUMMARY:UN NUL BIEN MERITE
UID:319ec8e8-c041-47a4-98a3-7c53fcce5e84
DTSTART:20161211T090000Z
DTEND:20161211T114500Z
LOCATION:Localisation Complexe Sportif Perdiguier - Av. Pierre de COUBERTIN 84310 MORIERES LES AVIGNON
CATEGORIES:Sportif
STATUS:
DESCRIPTION:<p>Equipe composee : VIEU Juklien, SEREBRIAKOFF Didier,
 PEROUTY Benoit, WIZA Emmanuel</p>
 
URL;VALUE=URI:https://ping-courthezonnais.sportsregions.fr/evenements/2016/12/11/un-nul-bien-merite-862347
END:VEVENT
END:VCALENDAR
