BEGIN:VCALENDAR
VERSION:2.0
PRODID:-//hacksw/handcal//NONSGML v1.0//EN
BEGIN:VEVENT
SUMMARY:SEVERE DEFAITE
UID:d009b78b-9f58-4820-9f78-8ab5705a2aa7
DTSTART:20161211T080000Z
DTEND:20161211T084500Z
LOCATION:Localisation Boulevard Jean MOULIN 84300 CAVAILLON
CATEGORIES:Sportif
STATUS:
DESCRIPTION:<p>Equipe composee : Lea BOLUSSET et Amandine
 FERRE</p>
 
 <p>Notre photo : Lea BOLUSSET</p>
 
URL;VALUE=URI:https://ping-courthezonnais.sportsregions.fr/evenements/2016/12/11/severe-defaite-862395
END:VEVENT
END:VCALENDAR
