BEGIN:VCALENDAR
VERSION:2.0
PRODID:-//hacksw/handcal//NONSGML v1.0//EN
BEGIN:VEVENT
SUMMARY:PERDRE SUR LE FIL
UID:9657ec0e-b874-4e3b-bf12-1da04e496bc1
DTSTART:20161211T080000Z
DTEND:20161211T084500Z
LOCATION:Localisation Boulevard Jean MOULIN 84300 CAVAILLON
CATEGORIES:Sportif
STATUS:
DESCRIPTION:<p>Equipe composee : Louis ROULAN et Charles
 SABON</p>
 
 <p>Notre photo : Charles SABON</p>
 
URL;VALUE=URI:https://ping-courthezonnais.sportsregions.fr/evenements/2016/12/11/perdre-sur-le-fil-862603
END:VEVENT
END:VCALENDAR
