BEGIN:VCALENDAR
VERSION:2.0
PRODID:-//hacksw/handcal//NONSGML v1.0//EN
BEGIN:VEVENT
SUMMARY:DURE REALITE
UID:97c2314c-1b3f-4916-8531-612676e81ee7
DTSTART:20161211T120000Z
DTEND:20161211T130000Z
LOCATION:Localisation Boulevard Jean MOULIN 84300 CAVAILLON
CATEGORIES:Sportif
STATUS:
DESCRIPTION:<p>Equipe composee : Lylian FREJABUE et Clement
 MORCHE</p>
 
 <p>Notre photo : Clement
 MORCHE</p>
 
 <p> </p>
 
 <p> </p>
 
URL;VALUE=URI:https://ping-courthezonnais.sportsregions.fr/evenements/2016/12/11/dure-realite-862367
END:VEVENT
END:VCALENDAR
