BEGIN:VCALENDAR
VERSION:2.0
PRODID:-//hacksw/handcal//NONSGML v1.0//EN
BEGIN:VEVENT
SUMMARY:BELLE VICTOIRE 
UID:15f569e9-245f-4c5b-abb8-d16cccadb46a
DTSTART:20161211T090000Z
DTEND:20161211T100000Z
LOCATION:Localisation Boulevard Jean MOULIN 84300 CAVAILLON
CATEGORIES:Sportif
STATUS:
DESCRIPTION:<p>Equipe composee : Charles SABON et Louis
 ROULAN</p>
 
 <p>Notre photo : Louis ROULAN</p>
 
URL;VALUE=URI:https://ping-courthezonnais.sportsregions.fr/evenements/2016/12/11/belle-victoire-862604
END:VEVENT
END:VCALENDAR
