BEGIN:VCALENDAR
VERSION:2.0
PRODID:-//hacksw/handcal//NONSGML v1.0//EN
BEGIN:VEVENT
SUMMARY:1ERE VICTOIRE DES BENJAMINS 3
UID:85cb4041-1b03-4c14-9924-190e597584c5
DTSTART:20161211T110000Z
DTEND:20161211T114500Z
LOCATION:Localisation Boulevard Jean MOULIN 84300 CAVAILLON
CATEGORIES:Sportif
STATUS:
DESCRIPTION:<p>Equipe composee : Clement MORCHE  et Lylian
 FREJABUE</p>
 
 <p>Notre photo : Lylian FREJABUE</p>
 
URL;VALUE=URI:https://ping-courthezonnais.sportsregions.fr/evenements/2016/12/11/1ere-victoire-des-benjamins-3-862364
END:VEVENT
END:VCALENDAR
