BEGIN:VCALENDAR
VERSION:2.0
PRODID:-//hacksw/handcal//NONSGML v1.0//EN
BEGIN:VEVENT
SUMMARY:UN DERBY A L'AVANTAGE DU P.P.C.C.
UID:2feba11a-e400-47a4-afc8-936c9baf6ca2
DTSTART:20161210T160000Z
DTEND:20161210T191500Z
LOCATION:Localisation Plaine Sportive - Route de Vedene 84700 SORGUES
CATEGORIES:Sportif
STATUS:
URL;VALUE=URI:https://ping-courthezonnais.sportsregions.fr/evenements/2016/12/10/un-derby-a-lavantage-du-ppcc-862340
END:VEVENT
END:VCALENDAR
