BEGIN:VCALENDAR
VERSION:2.0
PRODID:-//hacksw/handcal//NONSGML v1.0//EN
BEGIN:VEVENT
SUMMARY:LE PETARD ETAIT MOUILLE AU DEPART
UID:508e7e51-9732-4528-99bb-abbb8c71d01f
DTSTART:20161203T160000Z
DTEND:20161203T191500Z
LOCATION:Localisation Halle des Sports - Avenue Edouard GRANGIER 84170 MONTEUX
CATEGORIES:Sportif
STATUS:
DESCRIPTION:<p>Notre photo : SEREBRIAKOFF Didier</p>
 
URL;VALUE=URI:https://ping-courthezonnais.sportsregions.fr/evenements/2016/12/03/le-petard-etait-mouille-au-depart-858299
END:VEVENT
END:VCALENDAR
