BEGIN:VCALENDAR
VERSION:2.0
PRODID:-//hacksw/handcal//NONSGML v1.0//EN
BEGIN:VEVENT
SUMMARY:LA GROSSE DECULOTTEE
UID:04d65214-2e20-4f35-aa68-fa5cc878ea18
DTSTART:20161203T160000Z
DTEND:20161203T183000Z
LOCATION:Localisation Salle Municipale des Sports - Route de Sorgues 84320 ENTRAIGUES SUR LA SORGUE
CATEGORIES:Sportif
STATUS:
DESCRIPTION:<p>Notre photo : CARTIER Ludovic</p>
 
URL;VALUE=URI:https://ping-courthezonnais.sportsregions.fr/evenements/2016/12/03/la-grosse-deculottee-858278
END:VEVENT
END:VCALENDAR
