BEGIN:VCALENDAR
VERSION:2.0
PRODID:-//hacksw/handcal//NONSGML v1.0//EN
BEGIN:VEVENT
SUMMARY:DES VISITEURS AU DESSUS
UID:ae61e590-384a-494c-a38c-c4dfc0a6aba0
DTSTART:20161203T160000Z
DTEND:20161203T190000Z
LOCATION:Localisation Halle des Sports - Avenue Edouard GRANGIER 84170 MONTEUX
CATEGORIES:Sportif
STATUS:
DESCRIPTION:<p>Notre photo : GUDAYOL Thomas</p>
 
URL;VALUE=URI:https://ping-courthezonnais.sportsregions.fr/evenements/2016/12/03/des-visiteurs-au-dessus-858313
END:VEVENT
END:VCALENDAR
