BEGIN:VCALENDAR
VERSION:2.0
PRODID:-//hacksw/handcal//NONSGML v1.0//EN
BEGIN:VEVENT
SUMMARY:UNE DEFAITE LOGIQUE
UID:6707147a-6aa4-4172-974c-05ec7e32deec
DTSTART:20161202T193000Z
DTEND:20161202T224500Z
LOCATION:Localisation Gymnase Jean GARCIN - Route de VALLERON 84250 LE THOR
CATEGORIES:Sportif
STATUS:
DESCRIPTION:<p>Notre photo : Jean-Luc ROUSSEL</p>
 
URL;VALUE=URI:https://ping-courthezonnais.sportsregions.fr/evenements/2016/12/02/une-defaite-logique-857777
END:VEVENT
END:VCALENDAR
