BEGIN:VCALENDAR
VERSION:2.0
PRODID:-//hacksw/handcal//NONSGML v1.0//EN
BEGIN:VEVENT
SUMMARY:GROSSE DESILLUSION
UID:bda91265-c44e-4a95-9bd2-27195ab1f6d1
DTSTART:20161202T193000Z
DTEND:20161202T224500Z
LOCATION:Localisation Plaine Sportive - Route de Vedene 84800 SORGUES
CATEGORIES:Sportif
STATUS:
DESCRIPTION:<p>Notre photo : VITTOZ Olivier</p>
 
URL;VALUE=URI:https://ping-courthezonnais.sportsregions.fr/evenements/2016/12/02/grosse-desillusion-857768
END:VEVENT
END:VCALENDAR
